BEGIN:VCALENDAR
VERSION:2.0
PRODID:-//The Meteor Theatre - ECPv5.9.1//NONSGML v1.0//EN
CALSCALE:GREGORIAN
METHOD:PUBLISH
X-WR-CALNAME:The Meteor Theatre
X-ORIGINAL-URL:https://themeteor.co.nz
X-WR-CALDESC:Events for The Meteor Theatre
BEGIN:VTIMEZONE
TZID:Pacific/Auckland
BEGIN:STANDARD
TZOFFSETFROM:+1300
TZOFFSETTO:+1200
TZNAME:NZST
DTSTART:20260404T140000
END:STANDARD
BEGIN:DAYLIGHT
TZOFFSETFROM:+1200
TZOFFSETTO:+1300
TZNAME:NZDT
DTSTART:20260926T140000
END:DAYLIGHT
END:VTIMEZONE
BEGIN:VEVENT
DTSTART;TZID=Pacific/Auckland:20260401T110000
DTEND;TZID=Pacific/Auckland:20260519T110000
DTSTAMP:20260422T222950
CREATED:20260121T222403Z
LAST-MODIFIED:20260407T041933Z
UID:10352-1775041200-1779188400@themeteor.co.nz
SUMMARY:FRIENDSFRIENDS OF FRIENDSFRIENDS
DESCRIPTION:FRIENDSFRIENDS OF FRIENDSFRIENDS by Vincent Nielsen \nThis exhibit is a collection of people who the artist has met in dreams. A set of acquaintances from life\, melted over time through the haze of memory\, dreamt over and melted onto canvas as an attempt to recall all social interactions. Some of them are friends\, some of them less desirable. \nCome and see if you recognize yourself. \n\nInterrogating the way memory and recording of events can sometimes be at odds with one another Oliver “Vincent Nielsen” Stewart works in an array of media and mediums to communicate abstract recollections of a lifetime of experiences. Living in Kirikiriroa for 16 years\, long appreciating the changing nature of the city\, he attempts to capture the essence of the people that roam the streets\, work in offices\, live in the suburbs and make the city the cultural hub that often goes ignored. Primarily working as a painter of neo expressionist art\, Vincent commits memory to canvas and obfuscates the clues under layers of ink\, spray\, oil and acrylic paint. \n\nPlease join us at the opening event for FRIENDSFRIENDS OF FRIENDSFRIENDS on Sat 28th Feb\, 10am. \nThe Nancy Caiger Gallery is open 11am-2pm from Wednesday to Saturday. If you’d like to visit this exhibition outside of these opening hours\, please email kiaora@themeteor.co.nz
URL:https://themeteor.co.nz/event/friendsfriends-of-friendsfriends/
ATTACH;FMTTYPE=image/png:https://themeteor.co.nz/wp-content/uploads/2026/01/NC-Web-banner.png
END:VEVENT
BEGIN:VEVENT
DTSTART;TZID=Pacific/Auckland:20260405T190000
DTEND;TZID=Pacific/Auckland:20261004T190000
DTSTAMP:20260422T222950
CREATED:20251210T035512Z
LAST-MODIFIED:20260210T041638Z
UID:10255-1775415600-1791140400@themeteor.co.nz
SUMMARY:Social Improv
DESCRIPTION:Social Improv is an initiative adopted by Conor Maxwell (Project Allsorts Improv\, Infinite Monkey Theatre) to provide a safe space to develop confidence\, hone improv skills\, and join a friendly community of actors. Covering a range of experiences and performance abilities\, Social Improv has something to offer people of high school age and above in all stages of their improv journey; especially those looking to improv-e their high school theatresports game. \nWhen: \n6:30-8:30pm \nSun 5th & Sun 26th April \nSun 3rd \, Sun 17th & Sun 31st May \nSun 14th June \nSun 5th & Sun 26th July \nSun 9th & Sun 23rd August \nSun 6th & Sun 20th September \nSun 4th October \nWhere: The Meteor Theatre \nCost: Free! \nHow to join: Email Conor on cmaxwell@stjohns-hamilton.school.nz or DM him @improvcombat
URL:https://themeteor.co.nz/event/social-improv/
ATTACH;FMTTYPE=image/jpeg:https://themeteor.co.nz/wp-content/uploads/2025/12/improv.jpg
END:VEVENT
BEGIN:VEVENT
DTSTART;TZID=Pacific/Auckland:20260419T180000
DTEND;TZID=Pacific/Auckland:20260419T180000
DTSTAMP:20260422T222950
CREATED:20251210T035401Z
LAST-MODIFIED:20260121T234957Z
UID:10260-1776621600-1776621600@themeteor.co.nz
SUMMARY:SELENE
DESCRIPTION:‘THERE IS STUFF INSIDE US.\nWILD STUFF INSIDE US.’ \nA young girl is watching the moon landings on repeat\, entranced by those astronaut’s weightlessness\nA bunch of teenagers are swimming under a lunar eclipse\, lost in what might happen next\nA mis-matched couple are watching a horror film at a drive in cinema\, about to break apart \nSELENE is a radical exploding of an ancient myth.\nIt’s about how we grow up living defined by our bodies\, and about what happens when that changes.\nIt’s a story\, a score\, and a description of a film. \nIt’s a story about what we’re stuck in the orbit of.\nIt’s a story about the light sides of us and the dark sides of us.\nAnd it’s about the stuff inside us. All the wild stuff inside of us. \n\nA new sibling show to the hugely acclaimed HELIOS which toured to The Meteor in 2024\, the UK’s “masters of storytelling” (ThreeWeeks) Wright&Grainger return to Aotearoa with SELENE – an intimate theatre experience with cinematic score and striking storytelling. \nWritten and created by Alexander Wright & Phil Clive Grainger. Made with and told by Megan Drury. \nPresented by Wright&Grainger with Theatre@41 Monkgate. NZ tour produced by A Mulled Whine Productions. \n“This company truly are the best at storytelling” ★★★★★ – ThreeWeeks  \n“Wright&Grainger have a beautiful gift for taking Ancient Greek stories and hauling them into the 21st century\, translating the touching and keeping the human truth intact.” ★★★★ – The Wee Review  \n“Holds us in a space of emotional tension between the domestic and the epic\, the quotidian and the cosmic … deeply affecting\, funny\, and heartbreaking” – Flat City Field Notes review for HELIOS \n\nRunning time: 70 mins
URL:https://themeteor.co.nz/event/selene/
ATTACH;FMTTYPE=image/png:https://themeteor.co.nz/wp-content/uploads/2025/12/SELENE-535-x-315.png
END:VEVENT
END:VCALENDAR