BEGIN:VCALENDAR
VERSION:2.0
PRODID:-//The Meteor Theatre - ECPv5.9.1//NONSGML v1.0//EN
CALSCALE:GREGORIAN
METHOD:PUBLISH
X-WR-CALNAME:The Meteor Theatre
X-ORIGINAL-URL:https://themeteor.co.nz
X-WR-CALDESC:Events for The Meteor Theatre
BEGIN:VTIMEZONE
TZID:Pacific/Auckland
BEGIN:STANDARD
TZOFFSETFROM:+1300
TZOFFSETTO:+1200
TZNAME:NZST
DTSTART:20250405T140000
END:STANDARD
BEGIN:DAYLIGHT
TZOFFSETFROM:+1200
TZOFFSETTO:+1300
TZNAME:NZDT
DTSTART:20250927T140000
END:DAYLIGHT
END:VTIMEZONE
BEGIN:VEVENT
DTSTART;TZID=Pacific/Auckland:20250625T110000
DTEND;TZID=Pacific/Auckland:20250719T110000
DTSTAMP:20260423T082225
CREATED:20250529T013436Z
LAST-MODIFIED:20250627T002516Z
UID:10007-1750849200-1752922800@themeteor.co.nz
SUMMARY:WAWATA
DESCRIPTION:WAWATA \nAn exhibition by Alberta Harmer\, Edward Riwai\, and Darren Wise. \nHe rangi tā matawhāiti\, he rangi tā matawhānui \nA person with narrow vision has a restricted horizon; a person with wide vision has plentiful opportunities.  \n\nPlease join us at the opening event on Wednesday 25th June\, 6pm. All are welcome! \nThe Nancy Caiger Gallery is open 11am-2pm from Wednesday to Saturday. If you’d like to visit this exhibition outside of these opening hours\, please email kiaora@themeteor.co.nz \nCheck out the exhibition price list here!
URL:https://themeteor.co.nz/event/wawata/
ATTACH;FMTTYPE=image/png:https://themeteor.co.nz/wp-content/uploads/2025/05/He-rangi-ta-matawhaiti-he-rangi-ta-matawhanui.png
END:VEVENT
END:VCALENDAR