BEGIN:VCALENDAR
VERSION:2.0
PRODID:-//The Meteor Theatre - ECPv5.9.1//NONSGML v1.0//EN
CALSCALE:GREGORIAN
METHOD:PUBLISH
X-WR-CALNAME:The Meteor Theatre
X-ORIGINAL-URL:https://themeteor.co.nz
X-WR-CALDESC:Events for The Meteor Theatre
BEGIN:VTIMEZONE
TZID:Pacific/Auckland
BEGIN:STANDARD
TZOFFSETFROM:+1300
TZOFFSETTO:+1200
TZNAME:NZST
DTSTART:20250405T140000
END:STANDARD
BEGIN:DAYLIGHT
TZOFFSETFROM:+1200
TZOFFSETTO:+1300
TZNAME:NZDT
DTSTART:20250927T140000
END:DAYLIGHT
END:VTIMEZONE
BEGIN:VEVENT
DTSTART;TZID=Pacific/Auckland:20250828T190000
DTEND;TZID=Pacific/Auckland:20250830T190000
DTSTAMP:20260423T134257
CREATED:20250808T031543Z
LAST-MODIFIED:20250808T031938Z
UID:10108-1756407600-1756580400@themeteor.co.nz
SUMMARY:WAIRERE - Te Tatau Pounamu "The Peace Child"
DESCRIPTION:Te Wharekura o Kirikiriroa Present\n\nWAIRERE\n\n“Te Tatau Pounamu”\n\nTHE PEACE CHILD\n\nBy Wairea Company\n\n\n\n\n\nWairere is a Maori Musical and high end art and sensory experience sharing ancient stories\, songs and experiences from within the tribal lands of Ngati Wairere. \nWairere – Te Tatau Pounamu. He who brought peace and unity between two significant tribes of Mataatua and Tainui. \nWairere invites you to explore your consciousness in finding comfort from being discomforted allowing the audience to create their own intentions and thoughts from the work being shared and activated by the Rangatahi of Te Wharekura o Kirikiriroa through musical elements\, sensory movement\, sound and activation. \nDirected and designed by Rangipo Ihakara with the support of performers and artists from Wairea Company limited and the amazing and talented students from Te Wharekura o Kirikiriroa \n\n—\n\nRunning time: 60 mins\n\nPlease note there is a strict lockout and the show may include strobe lighting.
URL:https://themeteor.co.nz/event/wairere-te-tatau-pounamu-the-peace-child/
ATTACH;FMTTYPE=image/png:https://themeteor.co.nz/wp-content/uploads/2025/08/3.png
END:VEVENT
END:VCALENDAR