BEGIN:VCALENDAR
VERSION:2.0
PRODID:-//The Meteor Theatre - ECPv5.9.1//NONSGML v1.0//EN
CALSCALE:GREGORIAN
METHOD:PUBLISH
X-WR-CALNAME:The Meteor Theatre
X-ORIGINAL-URL:https://themeteor.co.nz
X-WR-CALDESC:Events for The Meteor Theatre
BEGIN:VTIMEZONE
TZID:Pacific/Auckland
BEGIN:STANDARD
TZOFFSETFROM:+1300
TZOFFSETTO:+1200
TZNAME:NZST
DTSTART:20250405T140000
END:STANDARD
BEGIN:DAYLIGHT
TZOFFSETFROM:+1200
TZOFFSETTO:+1300
TZNAME:NZDT
DTSTART:20250927T140000
END:DAYLIGHT
END:VTIMEZONE
BEGIN:VEVENT
DTSTART;TZID=Pacific/Auckland:20250701T103000
DTEND;TZID=Pacific/Auckland:20250705T103000
DTSTAMP:20260423T064210
CREATED:20250226T040845Z
LAST-MODIFIED:20250701T034735Z
UID:9880-1751365800-1751711400@themeteor.co.nz
SUMMARY:The Perfectly Peculiar Practice of Professor Penfold
DESCRIPTION:The Meteor presents our annual school holiday show! \nJoin Professor Penfold in his race against time to create a fantastical solution to the city’s rubbish problem! \nWith an impatient mayor breathing down her neck\, an enthusiastic but clumsy niece causing havoc in the lab\, what more could possibly go wrong for the professor? \nThe Perfectly Peculiar Practice of Professor Penfold is a wonderfully wacky\, and joyful experience for people of all ages – kids and parents alike! \n  \nWritten by Scott Granville and Courteney Mayall \n\nRunning time: 45 mins \nOur Friday 1pm show is a relaxed performance where the story\, characters\, lights and sounds are talked through prior to the show so you know what to expect throughout. This is a comfortable and inclusive experience designed for all but which may be especially welcomed by neurodivergent audience members. The pre-show demonstration will begin at 12:45pm before the show begins at 1pm.
URL:https://themeteor.co.nz/event/the-perfectly-peculiar-practice-of-professor-penfold/
ATTACH;FMTTYPE=image/jpeg:https://themeteor.co.nz/wp-content/uploads/2025/02/Kids-ticketing-graphic.jpg
END:VEVENT
END:VCALENDAR