BEGIN:VCALENDAR
VERSION:2.0
PRODID:-//The Meteor Theatre - ECPv5.9.1//NONSGML v1.0//EN
CALSCALE:GREGORIAN
METHOD:PUBLISH
X-WR-CALNAME:The Meteor Theatre
X-ORIGINAL-URL:https://themeteor.co.nz
X-WR-CALDESC:Events for The Meteor Theatre
BEGIN:VTIMEZONE
TZID:Pacific/Auckland
BEGIN:STANDARD
TZOFFSETFROM:+1300
TZOFFSETTO:+1200
TZNAME:NZST
DTSTART:20250405T140000
END:STANDARD
BEGIN:DAYLIGHT
TZOFFSETFROM:+1200
TZOFFSETTO:+1300
TZNAME:NZDT
DTSTART:20250927T140000
END:DAYLIGHT
END:VTIMEZONE
BEGIN:VEVENT
DTSTART;TZID=Pacific/Auckland:20250823T190000
DTEND;TZID=Pacific/Auckland:20250823T223000
DTSTAMP:20260423T115241
CREATED:20250614T041856Z
LAST-MODIFIED:20250614T042205Z
UID:10045-1755975600-1755988200@themeteor.co.nz
SUMMARY:Taprobana Pulse
DESCRIPTION:Get ready for an unforgettable night of rhythm\, soul\, and Sri Lankan sound as Taprobana lights up the stage this August. From electrifying drums to heartfelt melodies\, this is your ticket out of the cold and into a world of music that moves. \nJoin us for a vibrant celebration of culture\, community\, and pure musical energy. \n\nPlease note: Children 4 and under are free (must be seated on a parent’s lap).
URL:https://themeteor.co.nz/event/taprobana-pulse/
ATTACH;FMTTYPE=image/jpeg:https://themeteor.co.nz/wp-content/uploads/2025/06/Ticketing-Website-Image-1.jpg
END:VEVENT
END:VCALENDAR