BEGIN:VCALENDAR
VERSION:2.0
PRODID:-//The Meteor Theatre - ECPv5.9.1//NONSGML v1.0//EN
CALSCALE:GREGORIAN
METHOD:PUBLISH
X-WR-CALNAME:The Meteor Theatre
X-ORIGINAL-URL:https://themeteor.co.nz
X-WR-CALDESC:Events for The Meteor Theatre
BEGIN:VTIMEZONE
TZID:Pacific/Auckland
BEGIN:STANDARD
TZOFFSETFROM:+1300
TZOFFSETTO:+1200
TZNAME:NZST
DTSTART:20250405T140000
END:STANDARD
BEGIN:DAYLIGHT
TZOFFSETFROM:+1200
TZOFFSETTO:+1300
TZNAME:NZDT
DTSTART:20250927T140000
END:DAYLIGHT
END:VTIMEZONE
BEGIN:VEVENT
DTSTART;TZID=Pacific/Auckland:20250906T183000
DTEND;TZID=Pacific/Auckland:20250906T203000
DTSTAMP:20260423T163739
CREATED:20250808T001356Z
LAST-MODIFIED:20250814T224930Z
UID:10105-1757183400-1757190600@themeteor.co.nz
SUMMARY:Kirtan Experience
DESCRIPTION:Experience the magic of meditation and music in one unforgettable evening! Let go of any stress with soothing mantras\, then let the beat lift your spirit into joyful movement. From deep relaxation to dance-floor energy\, this night will leave you refreshed and inspired!
URL:https://themeteor.co.nz/event/kirtan-experience/
ATTACH;FMTTYPE=image/jpeg:https://themeteor.co.nz/wp-content/uploads/2025/08/535x315-Website_KirtanExp.jpg
END:VEVENT
END:VCALENDAR