BEGIN:VCALENDAR
VERSION:2.0
PRODID:-//The Meteor Theatre - ECPv5.9.1//NONSGML v1.0//EN
CALSCALE:GREGORIAN
METHOD:PUBLISH
X-WR-CALNAME:The Meteor Theatre
X-ORIGINAL-URL:https://themeteor.co.nz
X-WR-CALDESC:Events for The Meteor Theatre
BEGIN:VTIMEZONE
TZID:Pacific/Auckland
BEGIN:STANDARD
TZOFFSETFROM:+1300
TZOFFSETTO:+1200
TZNAME:NZST
DTSTART:20250405T140000
END:STANDARD
BEGIN:DAYLIGHT
TZOFFSETFROM:+1200
TZOFFSETTO:+1300
TZNAME:NZDT
DTSTART:20250927T140000
END:DAYLIGHT
END:VTIMEZONE
BEGIN:VEVENT
DTSTART;TZID=Pacific/Auckland:20250621T193000
DTEND;TZID=Pacific/Auckland:20250621T203000
DTSTAMP:20260423T101142
CREATED:20250512T213914Z
LAST-MODIFIED:20250613T030310Z
UID:9964-1750534200-1750537800@themeteor.co.nz
SUMMARY:James Roque - Champorado
DESCRIPTION:Kiwi-Filipino comedy veteran James Roque serves up an hour of his trademark sweet-and-salty stand-up. \nFresh off critically acclaimed runs at the Edinburgh\, Toronto\, and Vancouver Fringe Festivals—and following a sold-out national tour across Canada—the Filipino son of New Zealand comedy returns home with his latest hour\, hitting stages across Aotearoa. \nWhat actually matters in life? What should we truly care about? And what do these questions have to do with a breakfast chocolate rice pudding? \nKiwi-Filipino comedy veteran James Roque serves up an hour of his trademark sweet-and-salty stand-up. \nRUNNER UP – Best of the Fest Award – Vancouver Fringe 2024 \n“A hilarious\, heartwarming stand-up hour” ★★★★ The Wee Review (UK)\n“The epitome of slick… a comic at ease onstage” ★★★★ Chortle (UK)\n“Exceptional” ★★★★★ Mervyn Stutter’s Pick of the Fringe (UK)\n“A masterful storyteller…clearly a star” – Parton and Pearl (CANANDA) \nAs seen on\nJust For Laughs\nOver 50 million views on Instagram and TikTok \n\nRunning time: 60 mins \nRecommended for 13+ \n 
URL:https://themeteor.co.nz/event/james-roque-champorado/
ATTACH;FMTTYPE=image/jpeg:https://themeteor.co.nz/wp-content/uploads/2025/04/Meteor_Ticketing_535x315.jpg
END:VEVENT
END:VCALENDAR