BEGIN:VCALENDAR
VERSION:2.0
PRODID:-//The Meteor Theatre - ECPv5.9.1//NONSGML v1.0//EN
CALSCALE:GREGORIAN
METHOD:PUBLISH
X-WR-CALNAME:The Meteor Theatre
X-ORIGINAL-URL:https://themeteor.co.nz
X-WR-CALDESC:Events for The Meteor Theatre
BEGIN:VTIMEZONE
TZID:Pacific/Auckland
BEGIN:STANDARD
TZOFFSETFROM:+1300
TZOFFSETTO:+1200
TZNAME:NZST
DTSTART:20250405T140000
END:STANDARD
BEGIN:DAYLIGHT
TZOFFSETFROM:+1200
TZOFFSETTO:+1300
TZNAME:NZDT
DTSTART:20250927T140000
END:DAYLIGHT
END:VTIMEZONE
BEGIN:VEVENT
DTSTART;TZID=Pacific/Auckland:20250708T160000
DTEND;TZID=Pacific/Auckland:20250708T170000
DTSTAMP:20260423T063920
CREATED:20250627T034740Z
LAST-MODIFIED:20250627T035357Z
UID:10072-1751990400-1751994000@themeteor.co.nz
SUMMARY:Creating Immersive Storyworlds
DESCRIPTION:Creating Immersive Storyworlds \n\n\nImmersive theatre is an international phenomenon\, with events ranging from one-on-one shows in shipping containers to five storey buildings full of surreal environments to explore. But how do you make sure your theatre is really ‘immersive’ and not just another themed party? \nCassandra Tse is studying for a PhD in Immersive theatre and will guide you through some techniques for making your Immersive theatre project truly immersive. \n\nFree entry \n 
URL:https://themeteor.co.nz/event/creating-immersive-storyworlds/
ATTACH;FMTTYPE=image/png:https://themeteor.co.nz/wp-content/uploads/2025/06/Untitled-design-1.png
END:VEVENT
END:VCALENDAR