BEGIN:VCALENDAR
VERSION:2.0
PRODID:-//The Meteor Theatre - ECPv4.9.2//NONSGML v1.0//EN
CALSCALE:GREGORIAN
METHOD:PUBLISH
X-WR-CALNAME:The Meteor Theatre
X-ORIGINAL-URL:http://themeteor.co.nz
X-WR-CALDESC:Events for The Meteor Theatre
BEGIN:VEVENT
DTSTART;TZID=UTC+12:20191219T190000
DTEND;TZID=UTC+12:20191219T203000
DTSTAMP:20191218T213607
CREATED:20191114T010713Z
LAST-MODIFIED:20191114T023734Z
UID:6944-1576782000-1576787400@themeteor.co.nz
SUMMARY:The Improv Show Before Christmas
DESCRIPTION:‘Twas the week before Christmas\, and behind the curtain\nThe script had gone missing\, the dialogue uncertain.\nWe can’t call it off\, especially at Christmas.\nOnly one thing to do; we’ll have to ad-lib this! \nRemember that feeling of having a present under the tree but not knowing what was inside?\nWill it be a PlayStation?\nWill it be an iPhone?\nOr will it be socks? \nA mixed assortment of 6 improvisers (some naughty\, some nice) led by Ross McLeod unwrap a series of surprise scenes with a festive season spin. Classic tales reimagined\, exotic vacation spots explored\, beloved carols remixed\, and all created on the fly by the performers.  \n  \n
URL:http://themeteor.co.nz/event/the-improv-show-before-christmas/
LOCATION:The Meteor Theatre\, 1 Victoria st\, Hamilton\, New Zealand
GEO:-37.7922088;175.2873894
X-APPLE-STRUCTURED-LOCATION;VALUE=URI;X-ADDRESS=The Meteor Theatre 1 Victoria st Hamilton New Zealand;X-APPLE-RADIUS=500;X-TITLE=1 Victoria st:geo:175.2873894,-37.7922088
ATTACH;FMTTYPE=image/jpeg:http://themeteor.co.nz/wp-content/uploads/2019/11/Improv-Christmas-cover-2.0.jpg
END:VEVENT
BEGIN:VEVENT
DTSTART;TZID=UTC+12:20200125T190000
DTEND;TZID=UTC+12:20200125T210000
DTSTAMP:20191218T213607
CREATED:20191212T235143Z
LAST-MODIFIED:20191212T235143Z
UID:7005-1579978800-1579986000@themeteor.co.nz
SUMMARY:Paul Ubana Jones
DESCRIPTION:An inspiring soulful performer and winner of three New Zealand Music Awards\, acoustic guitar sensation Paul Ubana Jones is returning to The Meteor stage for one night only! Join Paul for an intimate concert of his original contemporary style influenced by blues\, rock\, folk and jazz music.   \nFour decades as a professional and nine albums later he continues to perform throughout New Zealand\, Australia\, Europe\, and the USA. Paul has shared the stage and toured with the best: BB King\, Bob Dylan\, Taj Mahal\, Keb Mo\, Crowded House\, Tuck and Patty\, and many more.   \n“A national treasure; Paul Ubana Jones is so much more than one man with a guitar. He is a conjuror of unique and original songs\, rooted in primal Blues and Soul”  \n “The most exciting Electro Acoustic Artist to visit our shores”  \nGood Morning News\, Santa Monica  \n
URL:http://themeteor.co.nz/event/paul-ubana-jones-2/
LOCATION:The Meteor Theatre\, 1 Victoria st\, Hamilton\, New Zealand
GEO:-37.7922088;175.2873894
X-APPLE-STRUCTURED-LOCATION;VALUE=URI;X-ADDRESS=The Meteor Theatre 1 Victoria st Hamilton New Zealand;X-APPLE-RADIUS=500;X-TITLE=1 Victoria st:geo:175.2873894,-37.7922088
ATTACH;FMTTYPE=image/jpeg:http://themeteor.co.nz/wp-content/uploads/2019/12/PUJ-Cover.jpg
END:VEVENT
BEGIN:VEVENT
DTSTART;TZID=UTC+12:20200214T193000
DTEND;TZID=UTC+12:20200214T220000
DTSTAMP:20191218T213607
CREATED:20191216T021839Z
LAST-MODIFIED:20191217T054138Z
UID:7013-1581708600-1581717600@themeteor.co.nz
SUMMARY:Harmonic Resonators & The Nukes
DESCRIPTION:Harmonic Resonators and The Nukes together for the first time. \nThis coming February 2020 sees the coming together of two classic kiwi groups. Ukulele trio ‘The Nukes’ have a very original approach\, amazing audiences with the rich sounds they are able to achieve with the humble little ukulele.  With over 10 years together and 3 albums worth of quality song-writing\, they’ve developed a show which is always entertaining and surprising. Sometimes even involving students from local schools\, or even members of an unsuspecting audience. \nThe Harmonic Resonators have achieved local internet stardom through their old-school\, jam-session style videos of classic waiata and heartfelt originals. With lush harmonies\, soaring yodels\, and beaming personalities\, they put on a show enjoyed by young and old alike. Laugh\, sing\, dance\, clap\, and resonate with your new favourite band. \nBoth groups are in demand\, performing at Festivals around the country. Tapping into the heartland of kiwi-culture a concert combining these two groups promises to have audiences singing-along\, laughing out loud and tapping their toes. This will be great family entertainment\, so gather the whanau and get along to one of their combined concerts. \n
URL:http://themeteor.co.nz/event/harmonic-resonators-the-nukes/
LOCATION:The Meteor Theatre\, 1 Victoria st\, Hamilton\, New Zealand
GEO:-37.7922088;175.2873894
X-APPLE-STRUCTURED-LOCATION;VALUE=URI;X-ADDRESS=The Meteor Theatre 1 Victoria st Hamilton New Zealand;X-APPLE-RADIUS=500;X-TITLE=1 Victoria st:geo:175.2873894,-37.7922088
ATTACH;FMTTYPE=image/jpeg:http://themeteor.co.nz/wp-content/uploads/2019/12/Cover.jpg
END:VEVENT
BEGIN:VEVENT
DTSTART;TZID=UTC+12:20200218T193000
DTEND;TZID=UTC+12:20200218T213000
DTSTAMP:20191218T213607
CREATED:20191213T021610Z
LAST-MODIFIED:20191213T021610Z
UID:7009-1582054200-1582061400@themeteor.co.nz
SUMMARY:Scottish Harp & Guitar - Rachel Hair & Ron Jappy
DESCRIPTION:Two of Scotland’s most lauded traditional musicians\, Rachel Hair and Ron Jappy bring their passion for Scottish music to New Zealand for the first time!    \nTake the oldest Scottish instrument\, the clarsach (harp)\, and the newest addition to the traditional music arsenal\, the guitar\, and throw them in the musical blender of Scotland’s biggest city Glasgow and out comes Rachel Hair and Ron Jappy!   \nTwo superb instrumentalists with a shared passion for traditional tunes\, Rachel and Ron perform as if sharing one mind… Combining the history of the harp and the culture of Scotland\, the duo charms audiences wherever they go.  \nHaving racked up performances throughout Africa\, Asia\, Europe and North America Ron and Rachel are setting out on a NZ tour following the recent release of their 5th album to great critical acclaim. Audiences can expect everything from crisp strathspeys and heartfelt airs\, to virtuosic reels and driving jigs in this exciting synthesis of the modern and traditional music.   \n
URL:http://themeteor.co.nz/event/scottish-harp-guitar-rachel-hair-ron-jappy/
LOCATION:The Meteor Theatre\, 1 Victoria st\, Hamilton\, New Zealand
GEO:-37.7922088;175.2873894
X-APPLE-STRUCTURED-LOCATION;VALUE=URI;X-ADDRESS=The Meteor Theatre 1 Victoria st Hamilton New Zealand;X-APPLE-RADIUS=500;X-TITLE=1 Victoria st:geo:175.2873894,-37.7922088
ATTACH;FMTTYPE=image/jpeg:http://themeteor.co.nz/wp-content/uploads/2019/12/Rachel-Hair-Ron-Jappy-1170x-630-FB-EVENT.jpg
END:VEVENT
END:VCALENDAR